BEGIN:VCALENDAR
VERSION:2.0
PRODID:-//146.66.91.15//NONSGML kigkonsult.se iCalcreator 2.26.9//
CALSCALE:GREGORIAN
METHOD:PUBLISH
X-FROM-URL:https://glyschoir.com.au
X-WR-TIMEZONE:Australia/Hobart
BEGIN:VTIMEZONE
TZID:Australia/Hobart
X-LIC-LOCATION:Australia/Hobart
BEGIN:STANDARD
DTSTART:20200405T030000
TZOFFSETFROM:+1100
TZOFFSETTO:+1000
RDATE:20210404T030000
TZNAME:AEST
END:STANDARD
BEGIN:DAYLIGHT
DTSTART:20191006T020000
TZOFFSETFROM:+1000
TZOFFSETTO:+1100
RDATE:20201004T020000
TZNAME:AEDT
END:DAYLIGHT
END:VTIMEZONE
BEGIN:VEVENT
UID:ai1ec-9228@glyschoir.com.au
DTSTAMP:20200225T155400Z
CATEGORIES:
CONTACT:
DESCRIPTION:
DTSTART;VALUE=DATE:20171126
DTEND;VALUE=DATE:20171127
GEO:-41.448426;+147.16696
LOCATION:Horton Auditorium\, Scotch Oakburn Senior Campus @ Penquite Rd\, N
 ewstead TAS 7250\, Australia
SEQUENCE:0
SUMMARY:Musical Moments
URL:https://glyschoir.com.au/event/musical-moments/
X-COST-TYPE:free
END:VEVENT
BEGIN:VEVENT
UID:ai1ec-9263@glyschoir.com.au
DTSTAMP:20200225T155400Z
CATEGORIES:
CONTACT:
DESCRIPTION:
DTSTART;VALUE=DATE:20180926
DTEND;VALUE=DATE:20180928
GEO:-41.433193;+147.139876
LOCATION:Albert Hall @ Cimitiere St\, Launceston TAS 7250\, Australia
SEQUENCE:0
SUMMARY:Singfest 2018
URL:https://glyschoir.com.au/event/singfest-2018/
X-COST-TYPE:free
END:VEVENT
BEGIN:VEVENT
UID:ai1ec-9264@glyschoir.com.au
DTSTAMP:20200225T155400Z
CATEGORIES:
CONTACT:
DESCRIPTION:
DTSTART;VALUE=DATE:20181125
DTEND;VALUE=DATE:20181126
GEO:-41.449146;+147.168046
LOCATION:Scotch Oakburn Senior Campus @ Penquite Rd\, Newstead TAS 7250\, A
 ustralia
SEQUENCE:0
SUMMARY:Musical Moments 2018
URL:https://glyschoir.com.au/event/musical-moments-2018/
X-COST-TYPE:free
END:VEVENT
BEGIN:VEVENT
UID:ai1ec-9288@glyschoir.com.au
DTSTAMP:20200225T155400Z
CATEGORIES:
CONTACT:
DESCRIPTION:
DTSTART;TZID=Australia/Hobart:20190206T160000
DTEND;TZID=Australia/Hobart:20190206T173000
LOCATION:Newstead College @ 30 Cypress Street Newstead
SEQUENCE:0
SUMMARY:Auditions for New Members
URL:https://glyschoir.com.au/event/auditions-for-new-members-2/
X-COST-TYPE:free
END:VEVENT
BEGIN:VEVENT
UID:ai1ec-9289@glyschoir.com.au
DTSTAMP:20200225T155400Z
CATEGORIES:
CONTACT:
DESCRIPTION:
DTSTART;TZID=Australia/Hobart:20190213T161500
DTEND;TZID=Australia/Hobart:20190213T173000
SEQUENCE:0
SUMMARY:First Rehearsal
URL:https://glyschoir.com.au/event/first-rehearsal/
X-COST-TYPE:free
END:VEVENT
BEGIN:VEVENT
UID:ai1ec-9291@glyschoir.com.au
DTSTAMP:20200225T155400Z
CATEGORIES:
CONTACT:
DESCRIPTION:
DTSTART;TZID=Australia/Hobart:20190501T161500
DTEND;TZID=Australia/Hobart:20190501T173000
SEQUENCE:0
SUMMARY:Term 2 Rehearsals
URL:https://glyschoir.com.au/event/term-2-rehearsals-2/
X-COST-TYPE:free
END:VEVENT
BEGIN:VEVENT
UID:ai1ec-9292@glyschoir.com.au
DTSTAMP:20200225T155400Z
CATEGORIES:
CONTACT:
DESCRIPTION:
DTSTART;TZID=Australia/Hobart:20190724T161500
DTEND;TZID=Australia/Hobart:20190724T173000
SEQUENCE:0
SUMMARY:Term 3 Rehearsals
URL:https://glyschoir.com.au/event/term-3-rehearsals-2/
X-COST-TYPE:free
END:VEVENT
BEGIN:VEVENT
UID:ai1ec-9293@glyschoir.com.au
DTSTAMP:20200225T155400Z
CATEGORIES:
CONTACT:
DESCRIPTION:
DTSTART;TZID=Australia/Hobart:20191016T161500
DTEND;TZID=Australia/Hobart:20191016T173000
SEQUENCE:0
SUMMARY:Term 4 Rehearsals
URL:https://glyschoir.com.au/event/term-4-rehearsals-2/
X-COST-TYPE:free
END:VEVENT
END:VCALENDAR
